Package: broadSeq Version: 1.4.0 Command: /home/biocbuild/bbs-3.22-bioc/R/bin/R CMD check --install=check:broadSeq.install-out.txt --library=/home/biocbuild/bbs-3.22-bioc/R/site-library --timings broadSeq_1.4.0.tar.gz StartedAt: 2025-11-13 21:46:12 -0500 (Thu, 13 Nov 2025) EndedAt: 2025-11-13 21:52:55 -0500 (Thu, 13 Nov 2025) EllapsedTime: 403.4 seconds RetCode: 0 Status: WARNINGS CheckDir: broadSeq.Rcheck Warnings: 1