Package: broadSeq Version: 1.4.0 Command: /home/biocbuild/bbs-3.22-bioc/R/bin/R CMD build --keep-empty-dirs --no-resave-data --md5 broadSeq StartedAt: 2025-11-11 16:39:51 -0500 (Tue, 11 Nov 2025) EndedAt: 2025-11-11 16:42:12 -0500 (Tue, 11 Nov 2025) EllapsedTime: 141.1 seconds RetCode: 0 Status: OK PackageFile: broadSeq_1.4.0.tar.gz PackageFileSize: 4.224 MiB