Package: broadSeq Version: 1.2.4 Command: /home/biocbuild/bbs-3.21-bioc/R/bin/R CMD INSTALL broadSeq StartedAt: 2025-10-15 15:49:27 -0400 (Wed, 15 Oct 2025) EndedAt: 2025-10-15 15:50:06 -0400 (Wed, 15 Oct 2025) EllapsedTime: 38.9 seconds RetCode: 0 Status: OK