Package: broadSeq Version: 1.2.4 Command: /home/biocbuild/bbs-3.21-bioc/R/bin/R CMD build --keep-empty-dirs --no-resave-data broadSeq StartedAt: 2025-10-15 16:31:08 -0400 (Wed, 15 Oct 2025) EndedAt: 2025-10-15 16:33:31 -0400 (Wed, 15 Oct 2025) EllapsedTime: 143.1 seconds RetCode: 0 Status: OK PackageFile: broadSeq_1.2.4.tar.gz PackageFileSize: 4.144 MiB