Package: broadSeq Version: 1.2.4 Command: /home/biocbuild/R/R/bin/R CMD INSTALL broadSeq StartedAt: 2025-10-02 21:06:49 -0000 (Thu, 02 Oct 2025) EndedAt: 2025-10-02 21:07:39 -0000 (Thu, 02 Oct 2025) EllapsedTime: 50.7 seconds RetCode: 0 Status: OK