Package: broadSeq Version: 1.2.4 Command: /home/biocbuild/R/R/bin/R CMD build --keep-empty-dirs --no-resave-data broadSeq StartedAt: 2025-10-02 23:19:06 -0000 (Thu, 02 Oct 2025) EndedAt: 2025-10-02 23:22:22 -0000 (Thu, 02 Oct 2025) EllapsedTime: 195.1 seconds RetCode: 0 Status: OK PackageFile: broadSeq_1.2.4.tar.gz PackageFileSize: 4.006 MiB