Package: broadSeq Version: 1.2.0 Command: /Library/Frameworks/R.framework/Resources/bin/R CMD build --keep-empty-dirs --no-resave-data broadSeq StartedAt: 2025-04-21 15:47:29 -0400 (Mon, 21 Apr 2025) EndedAt: 2025-04-21 15:48:24 -0400 (Mon, 21 Apr 2025) EllapsedTime: 55.7 seconds RetCode: 0 Status: OK PackageFile: broadSeq_1.2.0.tar.gz PackageFileSize: 4.052 MiB