Package: broadSeq Version: 1.2.4 Command: /Library/Frameworks/R.framework/Resources/bin/R CMD build --keep-empty-dirs --no-resave-data broadSeq StartedAt: 2025-10-13 20:19:44 -0400 (Mon, 13 Oct 2025) EndedAt: 2025-10-13 20:22:34 -0400 (Mon, 13 Oct 2025) EllapsedTime: 169.7 seconds RetCode: 0 Status: OK PackageFile: broadSeq_1.2.4.tar.gz PackageFileSize: 4.091 MiB