Package: breakpointR Version: 1.28.0 Command: /home/biocbuild/bbs-3.22-bioc/R/bin/R CMD INSTALL breakpointR StartedAt: 2025-11-11 15:29:39 -0500 (Tue, 11 Nov 2025) EndedAt: 2025-11-11 15:30:09 -0500 (Tue, 11 Nov 2025) EllapsedTime: 29.9 seconds RetCode: 0 Status: OK