Package: breakpointR Version: 1.28.0 Command: /home/biocbuild/bbs-3.22-bioc/R/bin/R CMD check --install=check:breakpointR.install-out.txt --library=/home/biocbuild/bbs-3.22-bioc/R/site-library --timings breakpointR_1.28.0.tar.gz StartedAt: 2025-11-11 21:47:26 -0500 (Tue, 11 Nov 2025) EndedAt: 2025-11-11 21:52:15 -0500 (Tue, 11 Nov 2025) EllapsedTime: 288.4 seconds RetCode: 0 Status: OK CheckDir: breakpointR.Rcheck Warnings: 0