Package: breakpointR Version: 1.26.0 Command: /home/biocbuild/bbs-3.21-bioc/R/bin/R CMD INSTALL breakpointR StartedAt: 2025-10-15 15:24:34 -0400 (Wed, 15 Oct 2025) EndedAt: 2025-10-15 15:25:04 -0400 (Wed, 15 Oct 2025) EllapsedTime: 30.2 seconds RetCode: 0 Status: OK