Package: breakpointR Version: 1.26.0 Command: /home/biocbuild/bbs-3.21-bioc/R/bin/R CMD build --keep-empty-dirs --no-resave-data breakpointR StartedAt: 2025-10-15 16:30:38 -0400 (Wed, 15 Oct 2025) EndedAt: 2025-10-15 16:31:48 -0400 (Wed, 15 Oct 2025) EllapsedTime: 70.1 seconds RetCode: 0 Status: OK PackageFile: breakpointR_1.26.0.tar.gz PackageFileSize: 819.6 KiB