Package: breakpointR Version: 1.26.0 Command: /Library/Frameworks/R.framework/Resources/bin/R CMD INSTALL breakpointR StartedAt: 2025-10-13 16:37:19 -0400 (Mon, 13 Oct 2025) EndedAt: 2025-10-13 16:37:55 -0400 (Mon, 13 Oct 2025) EllapsedTime: 35.4 seconds RetCode: 0 Status: OK