Package: branchpointer Version: 1.36.0 Command: /home/biocbuild/R/R/bin/R CMD INSTALL branchpointer StartedAt: 2025-11-13 21:43:27 -0000 (Thu, 13 Nov 2025) EndedAt: 2025-11-13 21:44:34 -0000 (Thu, 13 Nov 2025) EllapsedTime: 67.6 seconds RetCode: 0 Status: OK