Package: branchpointer Version: 1.36.0 Command: /home/biocbuild/R/R/bin/R CMD build --keep-empty-dirs --no-resave-data branchpointer StartedAt: 2025-11-11 00:07:54 -0000 (Tue, 11 Nov 2025) EndedAt: 2025-11-11 00:09:28 -0000 (Tue, 11 Nov 2025) EllapsedTime: 94.0 seconds RetCode: 1 Status: ERROR PackageFile: None PackageFileSize: NA