Package: branchpointer Version: 1.36.0 Command: /home/biocbuild/bbs-3.22-bioc/R/bin/R CMD INSTALL branchpointer StartedAt: 2025-11-13 15:37:21 -0500 (Thu, 13 Nov 2025) EndedAt: 2025-11-13 15:38:16 -0500 (Thu, 13 Nov 2025) EllapsedTime: 54.7 seconds RetCode: 0 Status: OK