Package: branchpointer Version: 1.34.0 Command: /home/biocbuild/bbs-3.21-bioc/R/bin/R CMD check --install=check:branchpointer.install-out.txt --library=/home/biocbuild/bbs-3.21-bioc/R/site-library --timings branchpointer_1.34.0.tar.gz StartedAt: 2025-10-08 21:19:18 -0400 (Wed, 08 Oct 2025) EndedAt: 2025-10-08 21:25:04 -0400 (Wed, 08 Oct 2025) EllapsedTime: 346.5 seconds RetCode: 0 Status: OK CheckDir: branchpointer.Rcheck Warnings: 0