Package: branchpointer Version: 1.34.0 Command: /Library/Frameworks/R.framework/Resources/bin/R CMD INSTALL branchpointer StartedAt: 2025-09-29 16:01:50 -0400 (Mon, 29 Sep 2025) EndedAt: 2025-09-29 16:03:35 -0400 (Mon, 29 Sep 2025) EllapsedTime: 104.5 seconds RetCode: 0 Status: OK