Package: branchpointer Version: 1.34.0 Command: /Library/Frameworks/R.framework/Resources/bin/R CMD build --keep-empty-dirs --no-resave-data branchpointer StartedAt: 2025-09-25 17:31:33 -0400 (Thu, 25 Sep 2025) EndedAt: 2025-09-25 17:34:28 -0400 (Thu, 25 Sep 2025) EllapsedTime: 174.5 seconds RetCode: 0 Status: OK PackageFile: branchpointer_1.34.0.tar.gz PackageFileSize: 4.804 MiB