Package: branchpointer Version: 1.34.0 Command: /home/biocbuild/R/R/bin/R CMD check --install=check:branchpointer.install-out.txt --library=/home/biocbuild/R/R/site-library --no-vignettes --timings branchpointer_1.34.0.tar.gz StartedAt: 2025-09-26 08:37:33 -0000 (Fri, 26 Sep 2025) EndedAt: 2025-09-26 08:44:30 -0000 (Fri, 26 Sep 2025) EllapsedTime: 417.3 seconds RetCode: 0 Status: OK CheckDir: branchpointer.Rcheck Warnings: 0