Package: borealis Version: 1.14.0 Command: /home/biocbuild/bbs-3.22-bioc/R/bin/R CMD INSTALL borealis StartedAt: 2025-11-11 15:41:30 -0500 (Tue, 11 Nov 2025) EndedAt: 2025-11-11 15:42:09 -0500 (Tue, 11 Nov 2025) EllapsedTime: 39.2 seconds RetCode: 0 Status: OK