Package: borealis Version: 1.14.0 Command: /home/biocbuild/bbs-3.22-bioc/R/bin/R CMD build --keep-empty-dirs --no-resave-data --md5 borealis StartedAt: 2025-11-11 16:38:41 -0500 (Tue, 11 Nov 2025) EndedAt: 2025-11-11 16:41:11 -0500 (Tue, 11 Nov 2025) EllapsedTime: 150.1 seconds RetCode: 0 Status: OK PackageFile: borealis_1.14.0.tar.gz PackageFileSize: 430.5 KiB