Package: borealis Version: 1.14.0 Command: /Library/Frameworks/R.framework/Resources/bin/R CMD INSTALL borealis StartedAt: 2025-11-10 15:17:36 -0500 (Mon, 10 Nov 2025) EndedAt: 2025-11-10 15:17:53 -0500 (Mon, 10 Nov 2025) EllapsedTime: 16.6 seconds RetCode: 0 Status: OK