Package: borealis Version: 1.14.0 Command: /Library/Frameworks/R.framework/Resources/bin/R CMD build --keep-empty-dirs --no-resave-data borealis StartedAt: 2025-11-10 15:48:12 -0500 (Mon, 10 Nov 2025) EndedAt: 2025-11-10 15:49:17 -0500 (Mon, 10 Nov 2025) EllapsedTime: 64.8 seconds RetCode: 0 Status: OK PackageFile: borealis_1.14.0.tar.gz PackageFileSize: 426.6 KiB