Package: borealis Version: 1.14.0 Command: rm -rf borealis.buildbin-libdir && mkdir borealis.buildbin-libdir && /Users/biocbuild/BBS/utils/build-universal.sh borealis_1.14.0.tar.gz /Library/Frameworks/R.framework/Resources/bin/R borealis.buildbin-libdir StartedAt: 2025-11-10 23:13:10 -0500 (Mon, 10 Nov 2025) EndedAt: 2025-11-10 23:13:28 -0500 (Mon, 10 Nov 2025) EllapsedTime: 18.4 seconds RetCode: 0 Status: OK PackageFile: borealis_1.14.0.tgz PackageFileSize: 473.7 KiB