Package: bnem Version: 1.18.0 Command: /home/biocbuild/bbs-3.22-bioc/R/bin/R CMD INSTALL bnem StartedAt: 2025-11-11 15:35:20 -0500 (Tue, 11 Nov 2025) EndedAt: 2025-11-11 15:35:56 -0500 (Tue, 11 Nov 2025) EllapsedTime: 35.3 seconds RetCode: 0 Status: OK