Package: bnem Version: 1.18.0 Command: /home/biocbuild/bbs-3.22-bioc/R/bin/R CMD build --keep-empty-dirs --no-resave-data --md5 bnem StartedAt: 2025-11-11 16:38:01 -0500 (Tue, 11 Nov 2025) EndedAt: 2025-11-11 16:39:07 -0500 (Tue, 11 Nov 2025) EllapsedTime: 66.0 seconds RetCode: 0 Status: OK PackageFile: bnem_1.18.0.tar.gz PackageFileSize: 1.871 MiB