Package: bnbc Version: 1.32.0 Command: /home/biocbuild/bbs-3.22-bioc/R/bin/R CMD INSTALL bnbc StartedAt: 2025-11-14 15:33:16 -0500 (Fri, 14 Nov 2025) EndedAt: 2025-11-14 15:34:01 -0500 (Fri, 14 Nov 2025) EllapsedTime: 45.3 seconds RetCode: 0 Status: OK