Package: bnbc Version: 1.32.0 Command: /home/biocbuild/bbs-3.22-bioc/R/bin/R CMD build --keep-empty-dirs --no-resave-data --md5 bnbc StartedAt: 2025-11-14 16:35:45 -0500 (Fri, 14 Nov 2025) EndedAt: 2025-11-14 16:37:10 -0500 (Fri, 14 Nov 2025) EllapsedTime: 85.1 seconds RetCode: 0 Status: OK PackageFile: bnbc_1.32.0.tar.gz PackageFileSize: 4.153 MiB