Package: bluster Version: 1.20.0 Command: /home/biocbuild/bbs-3.22-bioc/R/bin/R CMD INSTALL bluster StartedAt: 2025-11-11 15:18:42 -0500 (Tue, 11 Nov 2025) EndedAt: 2025-11-11 15:19:03 -0500 (Tue, 11 Nov 2025) EllapsedTime: 20.8 seconds RetCode: 0 Status: OK