Package: bluster Version: 1.18.0 Command: /home/biocbuild/R/R/bin/R CMD INSTALL bluster StartedAt: 2025-10-13 20:26:04 -0000 (Mon, 13 Oct 2025) EndedAt: 2025-10-13 20:26:37 -0000 (Mon, 13 Oct 2025) EllapsedTime: 32.2 seconds RetCode: 0 Status: OK