Package: bluster Version: 1.18.0 Command: /home/biocbuild/R/R/bin/R CMD build --keep-empty-dirs --no-resave-data bluster StartedAt: 2025-10-13 23:13:23 -0000 (Mon, 13 Oct 2025) EndedAt: 2025-10-13 23:16:05 -0000 (Mon, 13 Oct 2025) EllapsedTime: 162.0 seconds RetCode: 0 Status: OK PackageFile: bluster_1.18.0.tar.gz PackageFileSize: 2.973 MiB