Package: blima Version: 1.44.0 Command: /home/biocbuild/bbs-3.22-bioc/R/bin/R CMD check --install=check:blima.install-out.txt --library=/home/biocbuild/bbs-3.22-bioc/R/site-library --timings blima_1.44.0.tar.gz StartedAt: 2025-11-14 21:43:17 -0500 (Fri, 14 Nov 2025) EndedAt: 2025-11-14 21:49:39 -0500 (Fri, 14 Nov 2025) EllapsedTime: 382.5 seconds RetCode: 0 Status: OK CheckDir: blima.Rcheck Warnings: 0