Package: blima Version: 1.44.0 Command: /Library/Frameworks/R.framework/Resources/bin/R CMD INSTALL blima StartedAt: 2025-11-03 15:39:32 -0500 (Mon, 03 Nov 2025) EndedAt: 2025-11-03 15:40:03 -0500 (Mon, 03 Nov 2025) EllapsedTime: 31.2 seconds RetCode: 0 Status: OK