Package: blima Version: 1.42.0 Command: /home/biocbuild/R/R/bin/R CMD INSTALL blima StartedAt: 2025-10-09 20:53:11 -0000 (Thu, 09 Oct 2025) EndedAt: 2025-10-09 20:53:44 -0000 (Thu, 09 Oct 2025) EllapsedTime: 33.7 seconds RetCode: 0 Status: OK