Package: blima Version: 1.42.0 Command: /home/biocbuild/R/R/bin/R CMD build --keep-empty-dirs --no-resave-data blima StartedAt: 2025-10-09 23:12:09 -0000 (Thu, 09 Oct 2025) EndedAt: 2025-10-09 23:19:26 -0000 (Thu, 09 Oct 2025) EllapsedTime: 437.1 seconds RetCode: 0 Status: OK PackageFile: blima_1.42.0.tar.gz PackageFileSize: 254 KiB