Package: blima Version: 1.42.0 Command: /Library/Frameworks/R.framework/Resources/bin/R CMD INSTALL blima StartedAt: 2025-04-21 15:19:33 -0400 (Mon, 21 Apr 2025) EndedAt: 2025-04-21 15:19:42 -0400 (Mon, 21 Apr 2025) EllapsedTime: 9.0 seconds RetCode: 0 Status: OK