Package: blase Version: 1.0.0 Command: /home/biocbuild/bbs-3.22-bioc/R/bin/R CMD INSTALL blase StartedAt: 2025-11-11 16:00:51 -0500 (Tue, 11 Nov 2025) EndedAt: 2025-11-11 16:01:36 -0500 (Tue, 11 Nov 2025) EllapsedTime: 45.1 seconds RetCode: 0 Status: OK