Package: blase Version: 1.0.0 Command: /Library/Frameworks/R.framework/Resources/bin/R CMD INSTALL blase StartedAt: 2025-11-03 15:53:33 -0500 (Mon, 03 Nov 2025) EndedAt: 2025-11-03 15:54:30 -0500 (Mon, 03 Nov 2025) EllapsedTime: 57.6 seconds RetCode: 0 Status: OK