Package: blase Version: 1.0.0 Command: /Library/Frameworks/R.framework/Resources/bin/R CMD build --keep-empty-dirs --no-resave-data blase StartedAt: 2025-11-03 16:16:39 -0500 (Mon, 03 Nov 2025) EndedAt: 2025-11-03 16:31:52 -0500 (Mon, 03 Nov 2025) EllapsedTime: 913.7 seconds RetCode: 0 Status: OK PackageFile: blase_1.0.0.tar.gz PackageFileSize: 8.514 MiB