Package: blase Version: 1.0.0 Command: /Library/Frameworks/R.framework/Resources/bin/R CMD INSTALL blase StartedAt: 2025-11-10 15:29:42 -0500 (Mon, 10 Nov 2025) EndedAt: 2025-11-10 15:30:04 -0500 (Mon, 10 Nov 2025) EllapsedTime: 21.7 seconds RetCode: 0 Status: OK