Package: blase Version: 1.0.0 Command: /Library/Frameworks/R.framework/Resources/bin/R CMD build --keep-empty-dirs --no-resave-data blase StartedAt: 2025-11-10 15:47:31 -0500 (Mon, 10 Nov 2025) EndedAt: 2025-11-10 15:55:11 -0500 (Mon, 10 Nov 2025) EllapsedTime: 460.1 seconds RetCode: 0 Status: OK PackageFile: blase_1.0.0.tar.gz PackageFileSize: 8.628 MiB