Package: blacksheepr Version: 1.24.0 Command: /home/biocbuild/bbs-3.22-bioc/R/bin/R CMD INSTALL blacksheepr StartedAt: 2025-11-13 15:33:57 -0500 (Thu, 13 Nov 2025) EndedAt: 2025-11-13 15:34:23 -0500 (Thu, 13 Nov 2025) EllapsedTime: 26.3 seconds RetCode: 0 Status: OK