Package: blacksheepr Version: 1.24.0 Command: /home/biocbuild/bbs-3.22-bioc/R/bin/R CMD check --install=check:blacksheepr.install-out.txt --library=/home/biocbuild/bbs-3.22-bioc/R/site-library --timings blacksheepr_1.24.0.tar.gz StartedAt: 2025-11-11 21:41:54 -0500 (Tue, 11 Nov 2025) EndedAt: 2025-11-11 21:47:37 -0500 (Tue, 11 Nov 2025) EllapsedTime: 343.2 seconds RetCode: 0 Status: OK CheckDir: blacksheepr.Rcheck Warnings: 0