Package: blacksheepr Version: 1.24.0 Command: /home/biocbuild/bbs-3.22-bioc/R/bin/R CMD build --keep-empty-dirs --no-resave-data --md5 blacksheepr StartedAt: 2025-11-14 16:35:04 -0500 (Fri, 14 Nov 2025) EndedAt: 2025-11-14 16:37:21 -0500 (Fri, 14 Nov 2025) EllapsedTime: 137.1 seconds RetCode: 0 Status: OK PackageFile: blacksheepr_1.24.0.tar.gz PackageFileSize: 4.226 MiB