Package: blacksheepr Version: 1.22.0 Command: /home/biocbuild/bbs-3.21-bioc/R/bin/R CMD INSTALL blacksheepr StartedAt: 2025-09-28 15:46:22 -0400 (Sun, 28 Sep 2025) EndedAt: 2025-09-28 15:46:48 -0400 (Sun, 28 Sep 2025) EllapsedTime: 25.8 seconds RetCode: 0 Status: OK