Package: blacksheepr Version: 1.22.0 Command: /home/biocbuild/bbs-3.21-bioc/R/bin/R CMD build --keep-empty-dirs --no-resave-data blacksheepr StartedAt: 2025-09-28 16:43:49 -0400 (Sun, 28 Sep 2025) EndedAt: 2025-09-28 16:46:10 -0400 (Sun, 28 Sep 2025) EllapsedTime: 140.1 seconds RetCode: 0 Status: OK PackageFile: blacksheepr_1.22.0.tar.gz PackageFileSize: 4.225 MiB