Package: biscuiteer Version: 1.24.0 Command: /home/biocbuild/bbs-3.22-bioc/R/bin/R CMD check --install=check:biscuiteer.install-out.txt --library=/home/biocbuild/bbs-3.22-bioc/R/site-library --timings biscuiteer_1.24.0.tar.gz StartedAt: 2025-11-13 21:39:47 -0500 (Thu, 13 Nov 2025) EndedAt: 2025-11-13 21:49:14 -0500 (Thu, 13 Nov 2025) EllapsedTime: 566.8 seconds RetCode: 0 Status: WARNINGS CheckDir: biscuiteer.Rcheck Warnings: 1