Package: biscuiteer Version: 1.24.0 Command: /Library/Frameworks/R.framework/Resources/bin/R CMD INSTALL biscuiteer StartedAt: 2025-11-03 15:53:50 -0500 (Mon, 03 Nov 2025) EndedAt: 2025-11-03 15:55:27 -0500 (Mon, 03 Nov 2025) EllapsedTime: 96.4 seconds RetCode: 0 Status: OK