Package: biscuiteer Version: 1.24.0 Command: /Library/Frameworks/R.framework/Resources/bin/R CMD build --keep-empty-dirs --no-resave-data biscuiteer StartedAt: 2025-11-03 16:16:31 -0500 (Mon, 03 Nov 2025) EndedAt: 2025-11-03 16:18:27 -0500 (Mon, 03 Nov 2025) EllapsedTime: 116.2 seconds RetCode: 0 Status: OK PackageFile: biscuiteer_1.24.0.tar.gz PackageFileSize: 4.762 MiB